BEGIN:VCALENDAR
PRODID:-//AT Content Types//AT Event//EN
VERSION:2.0
METHOD:PUBLISH
BEGIN:VEVENT
DTSTAMP:20260422T224202Z
CREATED:20230211T144610Z
UID:ATEvent-c3305ff0cfc54dab81899674738f2e74
LAST-MODIFIED:20230307T143013Z
SUMMARY:Journie: Learning for Good
DTSTART:20230308T013000Z
DTEND:20230308T030000Z
DESCRIPTION:Join Us March 7 at 7:30pm ET/4:30 PT\, for our Next Intera
 ctive Workshop!\n\nIn "How to Slay with Today's Youth," you'll explore
  best practices for working with youth to expand service reach with se
 asoned partners and staff of Multiplying Good. Guest speakers will sha
 re techniques and tips to engage and connect with youth for maximum im
 pact. Participants will learn to utilize group processes\, questions\,
  and key mentorship guides to engage and empower young people in servi
 ce!
CATEGORIES:youth
URL:https://www.facebook.com/journieproject/photos/pcb.6058177610913657/6058177510913667/
CLASS:PUBLIC
END:VEVENT
END:VCALENDAR
