BEGIN:VCALENDAR
PRODID:-//AT Content Types//AT Event//EN
VERSION:2.0
METHOD:PUBLISH
BEGIN:VEVENT
DTSTAMP:20260423T173200Z
CREATED:20170602T161643Z
UID:ATEvent-d982ff693d5d4b57b8970c07226914f4
LAST-MODIFIED:20240714T171024Z
SUMMARY:Lunch & Learn: Financial Literacy for Business Owners!
DTSTART:20240710T163000Z
DTEND:20240710T180000Z
DESCRIPTION:Upgrade your financial skills - for your business and pers
 onal life - at Red Wing Ignite's upcoming (and free!) Lunch & Learn pr
 ogram on Wednesday\, July 10th.
LOCATION:419 Bush St\, Red Wing\, MN\, United States\, Minnesota 55066
CATEGORIES:commerce, community engagement, workforce, community
URL:https://www.facebook.com/events/1144492503264071?active_tab=about
CLASS:PUBLIC
END:VEVENT
END:VCALENDAR
