BEGIN:VCALENDAR
PRODID:-//AT Content Types//AT Event//EN
VERSION:1.0
BEGIN:VEVENT
DTSTART:20250612T130000Z
DTEND:20250615T170000Z
DCREATED:20170821T142629Z
UID:ATEvent-cb033c7723ab413d9ae482a09d887fe2
SEQUENCE:0
LAST-MODIFIED:20250430T205729Z
SUMMARY:Coming to the Table 2025 National Gathering
DESCRIPTION:
LOCATION:Radisson Hotel St. Paul Downtown 161 St. Anthony Avenue Saint Paul\, MN 55103
PRIORITY:3
TRANSP:0
END:VEVENT
END:VCALENDAR
