BEGIN:VCALENDAR
PRODID:-//AT Content Types//AT Event//EN
VERSION:1.0
BEGIN:VEVENT
DTSTART:20220104T203000Z
DTEND:20220104T220000Z
DCREATED:20220104T191800Z
UID:ATEvent-2e59ad31c61c436baca8ae7a66328cc8
SEQUENCE:0
LAST-MODIFIED:20260329T154112Z
SUMMARY:January 2022 Age-Friendly Planning
DESCRIPTION:Senior Housing Community Co-design Project Report
PRIORITY:3
TRANSP:0
END:VEVENT
END:VCALENDAR
