BEGIN:VCALENDAR
PRODID:-//AT Content Types//AT Event//EN
VERSION:2.0
METHOD:PUBLISH
BEGIN:VEVENT
DTSTAMP:20260424T144034Z
CREATED:20180715T160123Z
UID:ATEvent-585e7989b0c94606a3663761ac86da29
LAST-MODIFIED:20251101T132450Z
SUMMARY:MPR News presents Politics Friday LIVE in Rochester
DTSTART:20251021T220000Z
DTEND:20251022T020000Z
DESCRIPTION:Join MPR News politics editor Brian Bakst live in Rocheste
 r for an interesting and informative evening of Politics Friday.
LOCATION:125 Live
CATEGORIES:mpr, community engagement, governance
URL:https://www.mprevents.org/event/mpr-news-presents-politics-friday-live-in-rochester/125-live/rochester-minnesota/
CLASS:PUBLIC
END:VEVENT
END:VCALENDAR
