BEGIN:VCALENDAR
PRODID:-//AT Content Types//AT Event//EN
VERSION:2.0
METHOD:PUBLISH
BEGIN:VEVENT
DTSTAMP:20260422T095124Z
CREATED:20230905T155610Z
UID:ATEvent-6d366d3baaf341dcad4e84de633bb30b
LAST-MODIFIED:20230929T165642Z
SUMMARY:In the City for Good: City Administrator Alison Zelms
DTSTART:20230920T233000Z
DTEND:20230921T010000Z
DESCRIPTION:How city government works\, current issues\, and public en
 gagement. Location: Christ United Methodist Church\, 400 5th Av SW (en
 ter at the 5th Av doors)
LOCATION:Christ United Methodist Church\, 400 5th Av SW (enter at the 5th Av doors)
CATEGORIES:key, governance
CLASS:PUBLIC
END:VEVENT
END:VCALENDAR
