BEGIN:VCALENDAR
PRODID:-//AT Content Types//AT Event//EN
VERSION:1.0
BEGIN:VEVENT
DTSTART:20231111T223000Z
DTEND:20231112T035000Z
DCREATED:20231017T172302Z
UID:ATEvent-f6ae0b526e8a4050a9e1ff27244a5848
SEQUENCE:0
LAST-MODIFIED:20231117T152510Z
SUMMARY:ICAM: DIWALI CULTURAL EVENT
DESCRIPTION:Indian Cultural Association of Minnesota (ICAM)\, with the
  support of the Hindu Samaj Temple\, will be organizing in person Diwa
 li cultural event this year. This vibrant affair combines Music\, Danc
 e\, and other attractions that have come to be intrinsically associate
 d with Diwali.
LOCATION:Mayo Civic Center
PRIORITY:3
TRANSP:0
END:VEVENT
END:VCALENDAR
