BEGIN:VCALENDAR
PRODID:-//AT Content Types//AT Event//EN
VERSION:2.0
METHOD:PUBLISH
BEGIN:VEVENT
DTSTAMP:20260422T224227Z
CREATED:20251108T151428Z
UID:ATEvent-0822b6aeee6648cab7864a78b18521a0
LAST-MODIFIED:20260120T161655Z
SUMMARY:Panel Discussion - "IBM Rochester not only changed the city but the world"
DTSTART:20260123T003000Z
DTEND:20260123T013000Z
DESCRIPTION:The panel discussion\, which kicks off at 6:30 p.m. Thursd
 ay\, Jan. 22\, 2026\, will feature five current and retired IBM employ
 ees talking about everything from gaming and supercomputers to quantum
  computing\, and disks
LOCATION:Olmsted County History Center
CATEGORIES:Education
CLASS:PUBLIC
END:VEVENT
END:VCALENDAR
