BEGIN:VCALENDAR
PRODID:-//AT Content Types//AT Event//EN
VERSION:1.0
BEGIN:VEVENT
DTSTART:20231117T000000Z
DTEND:20231117T020000Z
DCREATED:20230822T115237Z
UID:ATEvent-71c40ea0ae644962872dbaa87bc37f35
SEQUENCE:0
LAST-MODIFIED:20230822T142901Z
SUMMARY:SBDC: How Do I Start a Business - Session 6
DESCRIPTION:How do I get started?
LOCATION:Northrop Community Education Center 201 8th St. NW Rochester\, MN 55901  Room 319
PRIORITY:3
TRANSP:0
END:VEVENT
END:VCALENDAR
