BEGIN:VCALENDAR
PRODID:-//AT Content Types//AT Event//EN
VERSION:1.0
BEGIN:VEVENT
DTSTART:20240110T160000Z
DTEND:20240110T173000Z
DCREATED:20240110T162013Z
UID:ATEvent-cea4a174123d446aa75836442810d8d8
SEQUENCE:0
LAST-MODIFIED:20240206T164251Z
SUMMARY:January 10\, 2024 Coalition for Rochester Area Housing Alliance (By Invitation)
DESCRIPTION:2023 Real Estate Data and Permits in Review\; Olmsted Coun
 ty Housing Programs Overview\, MN Affordable Housing Summit Summary
LOCATION:Rochester Area Foundation Community Room or Zoom 12 Elton Hills Dr NW\, Rochester MN 55901
PRIORITY:3
TRANSP:0
END:VEVENT
END:VCALENDAR
