BEGIN:VCALENDAR
PRODID:-//AT Content Types//AT Event//EN
VERSION:2.0
METHOD:PUBLISH
BEGIN:VEVENT
DTSTAMP:20260421T085400Z
CREATED:20221011T215459Z
UID:ATEvent-4537a4131c734793bcb0d7ddcf244589
LAST-MODIFIED:20231114T161631Z
SUMMARY:Oct. 12\, 2022: Coaltion for Rochester Area Housing Alliance
DTSTART:20221012T150000Z
DTEND:20221012T163000Z
DESCRIPTION:Topics Include: Community Updates\; Future Role of Allianc
 e-Continued\; Upcoming Events/Announcement
LOCATION:Virtual Meeting
CATEGORIES:RAF, Housing, housing
CLASS:PUBLIC
END:VEVENT
END:VCALENDAR
