BEGIN:VCALENDAR
PRODID:-//AT Content Types//AT Event//EN
VERSION:2.0
METHOD:PUBLISH
BEGIN:VEVENT
DTSTAMP:20260421T172810Z
CREATED:20171112T231303Z
UID:ATEvent-bb2cb9a138a94315912b06b1410e9f38
LAST-MODIFIED:20240802T164434Z
SUMMARY:March\, 2024 Coalition for Rochester Area Housing Alliance (2023 Housing Coalition Accomplishments Review)
DTSTART:20240313T150000Z
DTEND:20240313T163000Z
DESCRIPTION:Topics: Building Affordably: Technology Park Case Study\; 
 2023 Housing Coalition Accomplishments Review\; Upcoming Events/Announ
 cements:
LOCATION:March\, 2024 Coalition for Rochester Area Housing Alliance
CATEGORIES:RAF, housing, openbeam, key
CLASS:PUBLIC
END:VEVENT
END:VCALENDAR
