BEGIN:VCALENDAR
PRODID:-//AT Content Types//AT Event//EN
VERSION:2.0
METHOD:PUBLISH
BEGIN:VEVENT
DTSTAMP:20260420T085747Z
CREATED:20260326T211919Z
UID:ATEvent-5d4af49de416439ea4ab8d7531fb10b5
LAST-MODIFIED:20260326T212007Z
SUMMARY:HOUSING THE UNHOUSED ROCHESTER HOUSING UPDATE FORUM
DTSTART:20260424T000000Z
DTEND:20260424T013000Z
DESCRIPTION:Update on Any Path Home with Courtney Dugstad\; MICAH- Int
 roduction to housing initiatives by MICAH\; Perspectives on Homelessne
 ss in Rochester
LOCATION:Christ United Methodist Church\, 400 5th Av SW
CATEGORIES:Housing, Homelessness
URL:https://www.facebook.com/inthecityforgoodrochestermn
CLASS:PUBLIC
END:VEVENT
END:VCALENDAR
