BEGIN:VCALENDAR
PRODID:-//AT Content Types//AT Event//EN
VERSION:1.0
BEGIN:VEVENT
DTSTART:20240123T160000Z
DTEND:20240123T203000Z
DCREATED:20240117T161417Z
UID:ATEvent-709de7b2bbdb4e1eaf84f2a7ee434b16
SEQUENCE:0
LAST-MODIFIED:20240117T161438Z
SUMMARY:Home Ownership Education
DESCRIPTION:Speakers may include: Mortgage Broker\, Real Estate Agent\
 , Home Inspectors\, Insurance Agent
LOCATION:Virtual Via MS Teams
PRIORITY:3
TRANSP:0
END:VEVENT
END:VCALENDAR
