BEGIN:VCALENDAR
PRODID:-//AT Content Types//AT Event//EN
VERSION:2.0
METHOD:PUBLISH
BEGIN:VEVENT
DTSTAMP:20260421T052454Z
CREATED:20211118T024703Z
UID:ATEvent-773097c553f748f19c501bf0ad4ff8ac
LAST-MODIFIED:20211118T024725Z
SUMMARY:Hmong Cultural Center Museum Launch
DTSTART:20211202T230000Z
DTEND:20211203T000000Z
DESCRIPTION:Join for the official launch of the Hmong Cultural Center 
 Museum in this online event!
CATEGORIES:Culture, Diversity, Asian
URL:https://www.facebook.com/events/566307394482064
CLASS:PUBLIC
END:VEVENT
END:VCALENDAR
