BEGIN:VCALENDAR
PRODID:-//AT Content Types//AT Event//EN
VERSION:1.0
BEGIN:VEVENT
DTSTART:20231214T133000Z
DTEND:20231214T150000Z
DCREATED:20231118T185537Z
UID:ATEvent-9a71ffb965ab4298af76290bc5d8cd3d
SEQUENCE:0
LAST-MODIFIED:20231218T172315Z
SUMMARY:4Q 2023 December HAPP Meeting
DESCRIPTION:Improve health indicators definitions\; Community Health T
 houghts\; 2021-2023 CHIP Recap\; Collective Impacts\; Mayo Clinic and 
 OMG Updates
LOCATION:Teams Meeting
PRIORITY:3
TRANSP:0
END:VEVENT
END:VCALENDAR
