BEGIN:VCALENDAR
PRODID:-//AT Content Types//AT Event//EN
VERSION:1.0
BEGIN:VEVENT
DTSTART:20260312T123000Z
DTEND:20260312T140000Z
DCREATED:20260209T165439Z
UID:ATEvent-ce53ad9af155483eac9671a52728feb4
SEQUENCE:0
LAST-MODIFIED:20260418T135830Z
SUMMARY:1Q 2026 County Health Assessment and Planning Partnership (HAPP)
DESCRIPTION:2024 -2026 Community Health\nImprovement Plan (CHIP) Updat
 es\nDerrick Fritz\, CHAP Coordinator3. Mental Health Clubhouse Model L
 aura Sutherland\, SE MN Adult Mental Health\nInitiative and Michelle C
 ross\, Community Member. Overdose Spike Response Team Abby Tricker\, O
 CPHS5. Core Agency Updates CHAP Core Group6. Community Announcements a
 nd Sharing
LOCATION:Virtual Meeting
PRIORITY:3
TRANSP:0
END:VEVENT
END:VCALENDAR
