BEGIN:VCALENDAR
PRODID:-//AT Content Types//AT Event//EN
VERSION:1.0
BEGIN:VEVENT
DTSTART:20211026T180000Z
DTEND:20211026T190000Z
DCREATED:20211025T224708Z
UID:ATEvent-537bd8a34eb2463089b4ac17d17e1212
SEQUENCE:0
LAST-MODIFIED:20211213T173356Z
SUMMARY:Mayowood Grand Opening and Ribbon-Cutting for New Supportive Housing
DESCRIPTION:Mayowood Apartments will provide permanent supportive hous
 ing for 30 homeless adults
PRIORITY:3
TRANSP:0
END:VEVENT
END:VCALENDAR
