BEGIN:VCALENDAR
PRODID:-//AT Content Types//AT Event//EN
VERSION:1.0
BEGIN:VEVENT
DTSTART:20200222T190000Z
DTEND:20200222T220000Z
DCREATED:20200218T233640Z
UID:ATEvent-6fd47e3e52b44a198dcda8e703dc65b7
SEQUENCE:0
LAST-MODIFIED:20200218T233827Z
SUMMARY:Gateway Science Fair
LOCATION:Gonda Building\, Mayo Clinic
PRIORITY:3
TRANSP:0
END:VEVENT
END:VCALENDAR
