BEGIN:VCALENDAR
PRODID:-//AT Content Types//AT Event//EN
VERSION:2.0
METHOD:PUBLISH
BEGIN:VEVENT
DTSTAMP:20260421T015137Z
CREATED:20211222T034422Z
UID:ATEvent-27496d0b0df54a73b95cb6a172e1a8e0
LAST-MODIFIED:20220129T191624Z
SUMMARY:Free Workshop for Women\, Minority and Veteran-Owned Businesses
DTSTART:20220210T150000Z
DTEND:20220210T180000Z
DESCRIPTION:The City of Rochester and Destination Medical Center,\npar
 tnering with the Minnesota Departments of Administration Office of Sta
 te Procurement and the\nMinnesota Department of Transportation Office 
 of Civil Rights\, are hosting a workshop to help\n\nDisadvantaged Busi
 ness Enterprises (DBEs) and Targeted Group/Economically Disadvantaged/
 Veteran-\nOwned (TG/ED/VO) companies apply for certification.
CATEGORIES:Diversity, Entrepreneurship
CLASS:PUBLIC
END:VEVENT
END:VCALENDAR
