BEGIN:VCALENDAR
PRODID:-//AT Content Types//AT Event//EN
VERSION:2.0
METHOD:PUBLISH
BEGIN:VEVENT
DTSTAMP:20260420T014612Z
CREATED:20220104T183705Z
UID:ATEvent-c6fba87d78a849b49029936650e082cd
LAST-MODIFIED:20220128T001229Z
SUMMARY:FORUM- Jacob Radtke of the ECHO Center
DTSTART:20220121T003000Z
DTEND:20220121T020000Z
DESCRIPTION:Staff will have resources available on a wide variety of h
 ousing-related topics. Families and individuals are encouraged to util
 ize the ECHO Center throughout the process of securing safe and afford
 able living spaces.   The ECHO Center provides a location for people w
 ho are struggling with housing to connect with the resources available
  to them.
LOCATION:Zoom on Facebook
CATEGORIES:Housing, Homelessness, Financial Stress
URL:https://www.facebook.com/events/637044514303403?acontext=%7B%22event_action_history%22%3A[%7B%22mechanism%22%3A%22your_upcoming_events_unit%22%2C%22surface%22%3A%22bookmark%22%7D]%2C%22ref_notif_type%22%3Anull%7D
CLASS:PUBLIC
END:VEVENT
END:VCALENDAR
