BEGIN:VCALENDAR
PRODID:-//AT Content Types//AT Event//EN
VERSION:1.0
BEGIN:VEVENT
DTSTART:20220419T230000Z
DTEND:20220420T010000Z
DCREATED:20140118T175754Z
UID:ATEvent-a43e0e135e0849b1a88531bbc615e004
SEQUENCE:0
LAST-MODIFIED:20220422T131751Z
SUMMARY:Isaiah: Community Iftar Dinner celebrating our diverse\, multiracial and multi-faith community beyond the cultural divide
PRIORITY:3
TRANSP:0
END:VEVENT
END:VCALENDAR
