BEGIN:VCALENDAR
PRODID:-//AT Content Types//AT Event//EN
VERSION:2.0
METHOD:PUBLISH
BEGIN:VEVENT
DTSTAMP:20260419T163127Z
CREATED:20210708T125505Z
UID:ATEvent-34be1aef382046ee972f52b4d4ae6d3d
LAST-MODIFIED:20210708T125615Z
SUMMARY:Fernbrook Family Center's Equity\, Diversity\, & Inclusion Series
DTSTART:20210803T134500Z
DTEND:20210803T215000Z
DESCRIPTION:This event is open and free to all community members and i
 s supported by grant funding from the Minnesota Department of Human Se
 rvices and Substance Abuse and Mental Health Services Administration.
CATEGORIES:youth, mental health, Diversity
CLASS:PUBLIC
END:VEVENT
END:VCALENDAR
