BEGIN:VCALENDAR
PRODID:-//AT Content Types//AT Event//EN
VERSION:2.0
METHOD:PUBLISH
BEGIN:VEVENT
DTSTAMP:20260420T015157Z
CREATED:20220124T161836Z
UID:ATEvent-dbc37bd8fa304cdc914a81b8ed27d6e2
LAST-MODIFIED:20220208T193901Z
SUMMARY:Februray 3\, 2022 DMCC Board Session and Collaborative Session
DTSTART:20220203T153000Z
DTEND:20220203T200000Z
DESCRIPTION:
CATEGORIES:DMC, housing, workforce, governance, Entrepreneurship, sustainability, transit, Work Product: DMC
URL:https://dmc.mn/events/#post12671
CLASS:PUBLIC
END:VEVENT
END:VCALENDAR
