BEGIN:VCALENDAR
PRODID:-//AT Content Types//AT Event//EN
VERSION:1.0
BEGIN:VEVENT
DTSTART:20220509T233000Z
DTEND:20220510T010000Z
DCREATED:20130509T210747Z
UID:ATEvent-1367780100854b9cae86e8777c6f9ef1
SEQUENCE:0
LAST-MODIFIED:20220505T135026Z
SUMMARY:Faith & Restorative Justice - Path to Healing
LOCATION:Zoom
PRIORITY:3
TRANSP:0
END:VEVENT
END:VCALENDAR
