BEGIN:VCALENDAR
PRODID:-//AT Content Types//AT Event//EN
VERSION:2.0
METHOD:PUBLISH
BEGIN:VEVENT
DTSTAMP:20260422T153559Z
CREATED:20231115T221423Z
UID:ATEvent-d9c59d5d3d164c6c864831826a7c473b
LAST-MODIFIED:20240523T154440Z
SUMMARY:Business Practices – a key lever to drive equity in the workplace and community
DTSTART:20231122T180000Z
DTEND:20231122T190000Z
DESCRIPTION:Garfield Bowen\nVice President of Social & Environmental J
 ustice\, 3M
LOCATION:Virtual
CATEGORIES:DMC, Diversity, CMRC, key
CONTACT:Wafa Elkahlifa \, wafaelklahlifa@dmceda.org
CLASS:PUBLIC
END:VEVENT
END:VCALENDAR
