BEGIN:VCALENDAR
PRODID:-//AT Content Types//AT Event//EN
VERSION:2.0
METHOD:PUBLISH
BEGIN:VEVENT
DTSTAMP:20260424T222440Z
CREATED:20240208T171343Z
UID:ATEvent-fa1884f8b3704ebf9707f2be825f7122
LAST-MODIFIED:20240523T154245Z
SUMMARY:How We Rise: Lessons from Rochester’s Black History
DTSTART:20240214T180000Z
DTEND:20240214T190000Z
DESCRIPTION:What can Rochester's local Black history teach us about ho
 w to center equity and\nracial justice today? What role does history p
 lay in how we understand and confront\ncurrent issues of equity? Andre
  Crockett Sr. and Nicole Nfonoyim-Hara explore\nlessons from the new t
 raveling exhibit Still We Rise: Rochester's Black Legacy. The\nexhibit
  is a showcase of the key leaders and events that have shaped the loca
 l\ncommunity and its history.
LOCATION:Virtual
CATEGORIES:DMC, Diversity, CMRC, key
CONTACT:Wafa Elkahlifa \, wafaelklahlifa@dmceda.org
CLASS:PUBLIC
END:VEVENT
END:VCALENDAR
