BEGIN:VCALENDAR
PRODID:-//AT Content Types//AT Event//EN
VERSION:2.0
METHOD:PUBLISH
BEGIN:VEVENT
DTSTAMP:20260423T155426Z
CREATED:20250708T142530Z
UID:ATEvent-88b770dd33c7443481ecf1d7e6a6d6d2
LAST-MODIFIED:20260211T181104Z
SUMMARY:Disability Rights
DTSTART:20250709T170000Z
DTEND:20250709T180000Z
DESCRIPTION:Along with several other organizations in Rochester\, The 
 Arc Minnesota\, Ability\nBuilding Community\, the City of Rochester\, 
 and Workforce Development Inc. are\nhosting a Disability Summit this J
 uly in honor of Disability Pride Month. This will be\nRochester's firs
 t-ever Disability Summit. The July Equity Series will serve as the fir
 st\nsession\, covering disability justice concepts and how disability 
 rights and supports\nhave evolved\, both nationally and in Minnesota. 
 This will include examining models of\ndisability\, relevant legislati
 on on disability\, and examining disability advocacy and\nhistory rele
 vant to Rochester.\nOUR PRESENTERS
LOCATION:Virtual
CATEGORIES:city, rps, dmc, diversity, disability, key, community engagement, Education
CLASS:PUBLIC
END:VEVENT
END:VCALENDAR
