BEGIN:VCALENDAR
PRODID:-//AT Content Types//AT Event//EN
VERSION:2.0
METHOD:PUBLISH
BEGIN:VEVENT
DTSTAMP:20260421T204829Z
CREATED:20200424T131746Z
UID:ATEvent-0ae591bd79b34b5eb9247ada03597581
LAST-MODIFIED:20200424T131916Z
SUMMARY:Destination Medical Center Webinar Series Will Feature Minnesota Industry leaders on Topics of Post-Pandemic Recovery
DTSTART:20200427T170000Z
DTEND:20200501T180000Z
LOCATION:Webconference
CATEGORIES:EDA, DMC, business
CLASS:PUBLIC
END:VEVENT
END:VCALENDAR
