BEGIN:VCALENDAR
PRODID:-//AT Content Types//AT Event//EN
VERSION:2.0
METHOD:PUBLISH
BEGIN:VEVENT
DTSTAMP:20260421T204629Z
CREATED:20221101T175854Z
UID:ATEvent-b953bca32fd24e44bda293447a07291a
LAST-MODIFIED:20240315T163556Z
SUMMARY:DMCC November 10\, 2022 Board Meeting
DTSTART:20221110T153000Z
DTEND:20221110T180000Z
DESCRIPTION:Topics include: Patient\, companion\, visitor\, employee a
 nd resident experince Metrics: 7:48 Survey: 15:42\n\n Soldiers Field M
 emorial 32:00 Equity 40:57\n\n Discovery Square 54:30 Mortenson 59:16\
 n\n Prospecting Occupants 1:09 Additional Business 1:11:03 Survey resu
 lt comments 1:20:04\n\n Heart of the city 1:29:48\n\n Mobility 1:33:25
 \n\n DEI 1:35:08 Diversity Council Comments 1:48:07 Equitable Co-desig
 n 1:49:03 Relationship Building 1:53:13 Comments 1:58:08\n\n Main Stre
 et Grant 2:09:15
LOCATION:Downtown Rochester
CATEGORIES:DMC, Entrepreneurship
URL:https://dmc.mn/events/#post12675
CLASS:PUBLIC
END:VEVENT
END:VCALENDAR
