BEGIN:VCALENDAR
PRODID:-//AT Content Types//AT Event//EN
VERSION:1.0
BEGIN:VEVENT
DTSTART:20230209T183000Z
DTEND:20230209T200000Z
DCREATED:20230207T163144Z
UID:ATEvent-582b116b83a649e4b4163ea4ce34ae6a
SEQUENCE:0
LAST-MODIFIED:20240315T155425Z
SUMMARY:2023 DMCC Board Collaborative Session
DESCRIPTION:joint gathering of the DMCC board\, DMCC EDA board\, Roche
 ster City Council & Mayor\, and Olmsted County board\, along with thei
 r respective staff.\n\nGoals for the meeting:\n\nAllow organizations t
 o share ideas:\nLearning each group’s priorities,\nShared learning o
 n Next Generation Infrastructure with David Gamble\, principal of Gamb
 le Associates\, Harvard design instructor\, and author of several book
 s on city development.
PRIORITY:3
TRANSP:0
END:VEVENT
END:VCALENDAR
