BEGIN:VCALENDAR
PRODID:-//AT Content Types//AT Event//EN
VERSION:1.0
BEGIN:VEVENT
DTSTART:20191018T070000Z
DTEND:20191018T210000Z
DCREATED:20191020T120730Z
UID:ATEvent-2e2257d6d70d4beaa2716d7bd8488e24
SEQUENCE:0
LAST-MODIFIED:20191020T120751Z
SUMMARY:DMCC Board Meeting
PRIORITY:3
TRANSP:0
END:VEVENT
END:VCALENDAR
