BEGIN:VCALENDAR
PRODID:-//AT Content Types//AT Event//EN
VERSION:2.0
METHOD:PUBLISH
BEGIN:VEVENT
DTSTAMP:20260424T001326Z
CREATED:20161227T041456Z
UID:ATEvent-a1397d47d5704596b7036a7895396bec
LAST-MODIFIED:20250131T144335Z
SUMMARY:When Driving is Not an Option
DTSTART:20250212T003000Z
DTEND:20250212T020000Z
DESCRIPTION:Join author Anna Zivarts in a presentation and discussion 
 of what Rochester can gain by creating a community accessible to all!\
 nOver 30% of our country cannot drive.\nHere in Rochester\, that numbe
 r is even higher.
LOCATION:100 2nd Avenue Southwest,Rochester,55902,US 100 2nd Ave SW\, Rochester\, MN 55905-0006\, United States
CATEGORIES:transportation, community
URL:https://www.facebook.com/events/1526361984693493/?active_tab=discussion
CLASS:PUBLIC
END:VEVENT
END:VCALENDAR
