BEGIN:VCALENDAR
PRODID:-//AT Content Types//AT Event//EN
VERSION:2.0
METHOD:PUBLISH
BEGIN:VEVENT
DTSTAMP:20260421T190729Z
CREATED:20190808T153243Z
UID:ATEvent-af9700a3fe2f4e99ab9732b47a1a788f
LAST-MODIFIED:20190808T153404Z
SUMMARY:DMC Sustainability Series - Solar\, Batteries\, and EV’s\, Oh\, My!
DTSTART:20190814T170000Z
DTEND:20190814T180000Z
LOCATION:Rochester Public Library 101 2nd Street Southeast Meeting Room B Rochester\, MN 55904
CATEGORIES:sustainability
URL:https://dmc.mn/events/?utm_medium=social&utm_source=linkedin.company&utm_campaign=postfity&utm_content=postfityd4996#post9536
CLASS:PUBLIC
END:VEVENT
END:VCALENDAR
