BEGIN:VCALENDAR
PRODID:-//AT Content Types//AT Event//EN
VERSION:2.0
METHOD:PUBLISH
BEGIN:VEVENT
DTSTAMP:20260424T114006Z
CREATED:20170109T145251Z
UID:ATEvent-6fc59f68eb574e1093f7f66b47cc6196
LAST-MODIFIED:20221215T145707Z
SUMMARY:September 2022 Rochester Area Foundation: Fall DEI Practitioner Convening and Luncheon (By Invitation)
DTSTART:20220930T150000Z
DTEND:20220930T170000Z
DESCRIPTION:Using Design Lab to frame the conversations
CATEGORIES:RAF, Diversity
CONTACT:Amanda Pelley\, amanda@rochesterarea.org
CLASS:PUBLIC
END:VEVENT
END:VCALENDAR
