BEGIN:VCALENDAR
PRODID:-//AT Content Types//AT Event//EN
VERSION:1.0
BEGIN:VEVENT
DTSTART:20220414T160000Z
DTEND:20220414T180000Z
DCREATED:20160422T134552Z
UID:ATEvent-dd0baa5664234082842ca11943751fcf
SEQUENCE:0
LAST-MODIFIED:20220425T144717Z
SUMMARY:DEED Innovation Roundtable
DESCRIPTION:Commissioner of Minnesota Department of Employment and Eco
 nomic Development\, Steve Grove
PRIORITY:3
TRANSP:0
END:VEVENT
END:VCALENDAR
