BEGIN:VCALENDAR
PRODID:-//AT Content Types//AT Event//EN
VERSION:1.0
BEGIN:VEVENT
DTSTART:20221203T160000Z
DTEND:20221203T180000Z
DCREATED:20221028T182926Z
UID:ATEvent-df7a5cccc48a430c80c483196cec37d5
SEQUENCE:0
LAST-MODIFIED:20221202T160100Z
SUMMARY:Culturally Responsive Business Startup Workshop
DESCRIPTION:Free Work Shop Second Topic: Legal Issues - Business Regis
 tration and Trademark
LOCATION:Aune Hall at Graham Park\, 112 Arena Dr. SE\, Rochester\, MN 55904
PRIORITY:3
TRANSP:0
END:VEVENT
END:VCALENDAR
