BEGIN:VCALENDAR
PRODID:-//AT Content Types//AT Event//EN
VERSION:2.0
METHOD:PUBLISH
BEGIN:VEVENT
DTSTAMP:20260420T002217Z
CREATED:20211110T144934Z
UID:ATEvent-12d79ea2ef1640ea81b9e79501ff57ab
LAST-MODIFIED:20250125T191843Z
SUMMARY:2025 Lunar New Year Celebration
DTSTART:20250125T180000Z
DTEND:20250126T230000Z
DESCRIPTION:Celebrate the Year of the Snake at the 2025 Lunar New Year
  Festival! Asia Mall invites you to join us on Saturday and Sunday\, J
 anuary 25th and 26th\, from 12PM-5PM. This event marks the third offic
 ial Lunar New Year celebration since our opening. Join us for an unfor
 gettable day of traditional performances\, cultural showcases\, and co
 mmunity spirit.
LOCATION:Asian Mall\, 12160 Technology Dr.\, Eden Prairie\, MN
CATEGORIES:culture, Diversity
URL:https://www.facebook.com/events/596807846268499/?acontext=%7B%22event_action_history%22%3A[]%7D
CLASS:PUBLIC
END:VEVENT
END:VCALENDAR
