BEGIN:VCALENDAR
PRODID:-//AT Content Types//AT Event//EN
VERSION:2.0
METHOD:PUBLISH
BEGIN:VEVENT
DTSTAMP:20260419T182709Z
CREATED:20221113T141023Z
UID:ATEvent-3a6f8fd3a7d74276a2aa98d337f379c7
LAST-MODIFIED:20221130T155128Z
SUMMARY:Global Market (Cooking Class\, Small Business Training\, Food & Deserts)
DTSTART:20221203T150000Z
DTEND:20221204T010000Z
DESCRIPTION:Rochester's cultural communities hosting family friendly w
 inter activities. Come to experience authentic flavors and vibrant tra
 ditions.
LOCATION:Aune Hall at Graham Park\, 112 Arena Dr SE\, Rochester\, MN 55904
CATEGORIES:food, Diversity, openbeam, Entrepreneurship
CLASS:PUBLIC
END:VEVENT
END:VCALENDAR
