BEGIN:VCALENDAR
PRODID:-//AT Content Types//AT Event//EN
VERSION:1.0
BEGIN:VEVENT
DTSTART:20190612T230000Z
DTEND:20190613T010000Z
DCREATED:20190610T010808Z
UID:ATEvent-87ba55249d3745eb8464cf56f5958051
SEQUENCE:0
LAST-MODIFIED:20190610T011232Z
SUMMARY:MNDOT\, Isaiah: Pathways to Clean Transportation - Rochester (evening session)
LOCATION:Mayo Civic Center - American Legion Room\, 30 Civic Center Dr SE\, Rochester\, MN 55904
PRIORITY:3
TRANSP:0
END:VEVENT
END:VCALENDAR
