BEGIN:VCALENDAR
PRODID:-//AT Content Types//AT Event//EN
VERSION:1.0
BEGIN:VEVENT
DTSTART:20241022T180000Z
DTEND:20241022T200000Z
DCREATED:20240805T163020Z
UID:ATEvent-4a5d68b1ecd04615b052abfbbf504218
SEQUENCE:0
LAST-MODIFIED:20240813T153428Z
SUMMARY:October 2024 Community Co-design Leadership Training Session 2 (Option 1)
DESCRIPTION:Some objectives of this training are:\n\n•            Un
 derstand the community co-design process and purpose.\n\n•          
   Know how to identify projects that are well suited for co-design as 
 well as when to projects might be better suited for other methods.\n\n
 •            Learn how to evaluate and ensure a co-design project is
  set up for success and is largely consistent in process and intention
 .\n\n•            Build a shared language around co-design.\n\n•  
           Identify projects and collaborations for co-design in the fu
 ture.\n\n•            Develop a relationship with a team that can of
 fer on-going support and coaching to apply co-design.
PRIORITY:3
TRANSP:0
END:VEVENT
END:VCALENDAR
