BEGIN:VCALENDAR
PRODID:-//AT Content Types//AT Event//EN
VERSION:1.0
BEGIN:VEVENT
DTSTART:20230914T163000Z
DTEND:20230914T190000Z
DCREATED:20230815T230857Z
UID:ATEvent-4f2343690f2e4e73b0b7534c626746c4
SEQUENCE:0
LAST-MODIFIED:20230920T144341Z
SUMMARY:MPR Rochester RDAC 3Q 2023 Meeting
DESCRIPTION:Our speaker is Liwanag Ojala\, the Senior Vice President a
 nd Chief Transformation Officer at American Public Media Group.
PRIORITY:3
TRANSP:0
END:VEVENT
END:VCALENDAR
