BEGIN:VCALENDAR
PRODID:-//AT Content Types//AT Event//EN
VERSION:2.0
METHOD:PUBLISH
BEGIN:VEVENT
DTSTAMP:20260422T161259Z
CREATED:20220118T200548Z
UID:ATEvent-6f5a51cc8f9b4259b30c3d598009c79c
LAST-MODIFIED:20260329T153400Z
SUMMARY:February 2022 Age-Friendly Planning
DTSTART:20220201T203000Z
DTEND:20220201T220000Z
DESCRIPTION:At present\, we have three working groups. Participation i
 n these groups remain open. If you would like to join a group(s)\, ple
 ase contact the conveners listed below.
CATEGORIES:aging
CLASS:PUBLIC
END:VEVENT
END:VCALENDAR
