BEGIN:VCALENDAR
PRODID:-//AT Content Types//AT Event//EN
VERSION:1.0
BEGIN:VEVENT
DTSTART:20200310T000000Z
DTEND:20200310T013000Z
DCREATED:20171204T151525Z
UID:ATEvent-5e0ba9bf915044a5852c9a4df789bcd9
SEQUENCE:0
LAST-MODIFIED:20200303T014447Z
SUMMARY:In the City for Good – Affordable Housing Action Group
DESCRIPTION:Monthly In the City for Good's Affordable Housing Group me
 eting
LOCATION:United Way Building\, 903 West Center Street
PRIORITY:3
TRANSP:0
END:VEVENT
END:VCALENDAR
