BEGIN:VCALENDAR
PRODID:-//AT Content Types//AT Event//EN
VERSION:1.0
BEGIN:VEVENT
DTSTART:20220126T173000Z
DTEND:20220126T193000Z
DCREATED:20220131T145442Z
UID:ATEvent-75a3053757554aacb94422cafd4129d1
SEQUENCE:0
LAST-MODIFIED:20220201T154722Z
SUMMARY:HEALTH AS A CATALYST FOR GROWTH
DESCRIPTION:
PRIORITY:3
TRANSP:0
END:VEVENT
END:VCALENDAR
