BEGIN:VCALENDAR
PRODID:-//AT Content Types//AT Event//EN
VERSION:1.0
BEGIN:VEVENT
DTSTART:20220623T170000Z
DTEND:20220623T190000Z
DCREATED:20130509T210747Z
UID:ATEvent-aa0d65c2c29e4a629faa512451e118da
SEQUENCE:0
LAST-MODIFIED:20220525T141220Z
SUMMARY:UMR Summer Reconnect
LOCATION:TBD
PRIORITY:3
TRANSP:0
END:VEVENT
END:VCALENDAR
