BEGIN:VCALENDAR
PRODID:-//AT Content Types//AT Event//EN
VERSION:1.0
BEGIN:VEVENT
DTSTART:20230107T160000Z
DTEND:20230107T180000Z
DCREATED:20221218T192834Z
UID:ATEvent-2884877ee0f543ef93e1406764991f8d
SEQUENCE:0
LAST-MODIFIED:20221218T193040Z
SUMMARY:Culturally Responsive Business Startup Workshop
DESCRIPTION:Funding Your Business - Loans and Grants
LOCATION:Aune Hall at Graham Park\, 112 Arena Dr. SE\, Rochester\, MN 55904
PRIORITY:3
TRANSP:0
END:VEVENT
END:VCALENDAR
