BEGIN:VCALENDAR
PRODID:-//AT Content Types//AT Event//EN
VERSION:1.0
BEGIN:VEVENT
DTSTART:20200316T230000Z
DTEND:20200317T003000Z
DCREATED:20200303T015100Z
UID:ATEvent-4464776e8be14a4a8d015734f34f0150
SEQUENCE:0
LAST-MODIFIED:20200303T015234Z
SUMMARY:C4G: Social Services Action Group
LOCATION:Congregational Church\, 974 Skyline Dr SW.
PRIORITY:3
TRANSP:0
END:VEVENT
END:VCALENDAR
