BEGIN:VCALENDAR
PRODID:-//AT Content Types//AT Event//EN
VERSION:2.0
METHOD:PUBLISH
BEGIN:VEVENT
DTSTAMP:20260420T085252Z
CREATED:20240517T162347Z
UID:ATEvent-5b9d5da08398489c9ba7627f5c1351ed
LAST-MODIFIED:20240623T153907Z
SUMMARY:June 2024 United Way BIPOC Leaders Panel and Small Group Conversation
DTSTART:20240604T210000Z
DTEND:20240604T230000Z
DESCRIPTION:Join other BIPOC individuals to learn about ways to get in
 volved in our community! BIPOC Leaders Panel and Small Group Conversat
 ion
LOCATION:United Way of Olmsted County
CATEGORIES:Diversity, compassion, key, civic engagement, CMRC, united way
CONTACT:Zeni Aly\, zenia@uwolmsted.org
CLASS:PUBLIC
END:VEVENT
END:VCALENDAR
