BEGIN:VCALENDAR
PRODID:-//AT Content Types//AT Event//EN
VERSION:1.0
BEGIN:VEVENT
DTSTART:20230419T170000Z
DTEND:20230419T180000Z
DCREATED:20230413T173205Z
UID:ATEvent-5adb12a26bc243d0a295e0fa422f4574
SEQUENCE:0
LAST-MODIFIED:20230414T204533Z
SUMMARY:DMC Sustainability Series
DESCRIPTION:The DMC Sustainability Series is a monthly seminar sponsor
 ed by Destination Medical Center and the City of Rochester. The purpos
 e is to introduce sustainability concepts and best practices for every
 one to consider. The series is held virtually on the third Wednesday o
 f every month at noon.
LOCATION:Zoom
PRIORITY:3
TRANSP:0
END:VEVENT
END:VCALENDAR
